BEGIN:VCALENDAR
VERSION:2.0
PRODID:-//Istros-Keltoi - ECPv6.15.20//NONSGML v1.0//EN
CALSCALE:GREGORIAN
METHOD:PUBLISH
X-ORIGINAL-URL:https://istros-keltoi.de
X-WR-CALDESC:Veranstaltungen für Istros-Keltoi
REFRESH-INTERVAL;VALUE=DURATION:PT1H
X-Robots-Tag:noindex
X-PUBLISHED-TTL:PT1H
BEGIN:VTIMEZONE
TZID:Europe/Berlin
BEGIN:DAYLIGHT
TZOFFSETFROM:+0100
TZOFFSETTO:+0200
TZNAME:CEST
DTSTART:20250330T010000
END:DAYLIGHT
BEGIN:STANDARD
TZOFFSETFROM:+0200
TZOFFSETTO:+0100
TZNAME:CET
DTSTART:20251026T010000
END:STANDARD
BEGIN:DAYLIGHT
TZOFFSETFROM:+0100
TZOFFSETTO:+0200
TZNAME:CEST
DTSTART:20260329T010000
END:DAYLIGHT
BEGIN:STANDARD
TZOFFSETFROM:+0200
TZOFFSETTO:+0100
TZNAME:CET
DTSTART:20261025T010000
END:STANDARD
BEGIN:DAYLIGHT
TZOFFSETFROM:+0100
TZOFFSETTO:+0200
TZNAME:CEST
DTSTART:20270328T010000
END:DAYLIGHT
BEGIN:STANDARD
TZOFFSETFROM:+0200
TZOFFSETTO:+0100
TZNAME:CET
DTSTART:20271031T010000
END:STANDARD
END:VTIMEZONE
BEGIN:VEVENT
DTSTART;TZID=Europe/Berlin:20260604T100000
DTEND;TZID=Europe/Berlin:20260607T170000
DTSTAMP:20260420T134130
CREATED:20250214T180628Z
LAST-MODIFIED:20260102T111021Z
UID:8295-1780567200-1780851600@istros-keltoi.de
SUMMARY:„Die Kelten kommen!“ ins Markus Wasmeier Freilichtmuseum\, Schliersee / Bayern
DESCRIPTION:Die Kelten kommen ! Salzsieder zu Gast im altbayrischen Dorf\, mit Handwerk und Lagerleben. Das müssen Sie erlebt haben!
URL:https://istros-keltoi.de/termin/die-kelten-kommen-ins-markus-wasmeier-freilichtmuseum-schliersee-bayern/
LOCATION:Markus Wasmeier Freilichtmuseum  Brunnbichl 5\, 83727 Schliersee\, Brunnbichl 5\, Schliersee\, Bayern\, 83727\, Germany
END:VEVENT
BEGIN:VEVENT
DTSTART;VALUE=DATE:20260619
DTEND;VALUE=DATE:20260623
DTSTAMP:20260420T134130
CREATED:20190108T160736Z
LAST-MODIFIED:20260102T103636Z
UID:6847-1781838000-1782097199@istros-keltoi.de
SUMMARY:Keltenfestival in Schwarzenbach NÖ
DESCRIPTION:Keltenfestival Bucklige Welt von 19. bis 21. Juni 2026\n\n  \n\n  \n\n\n\n\n\nDas Keltenfestival in Schwarzenbach in der Buckligen Welt!\nFr\, 19. bis So\, 21. Juni 2026 \nDas Fest bietet seinen Besuchern von Jahr zu Jahr mehr Freizeitvergnügen\, sowohl auf kultureller Ebene als auch im kulinarischen Sinn. Das Freilichtmuseum wird während der Veranstaltung wieder von keltischen Reenactment-Gruppen belebt und bietet so einen authentischen Einblick in das Leben der Kelten. \nDen großen und kleinen Besuchern bietet sich am Festgelände ein umfangreiches Programm: \n\nWorkshops aller Art (Naturwerkstätte\, Töpfern\, Schmieden\, Trommeln…)\nEntzündung des Sonnwendfeuers (Samstag)\nLive-Musik\nKeltenmarkt\nStreichelzoo\nKörperbemalung\nKeltische Speisen\nBogenschießen und Axtwurf\nKeltenzöpfe\nDudelsackspieler\n\nund vieles Mehr! \nDas Keltendorf Schwarzenbach freut sich auf euren Besuch! \nKarten Vorverkauf unter: https://www.keltendorf-schwarzenbach.at/keltenfestival/ \n\n\n\n  \n 
URL:https://istros-keltoi.de/termin/22-keltenfestival-bucklige-welt-in-schwarzenbach/
LOCATION:Freilichtmuseum „Oppidum“  Schwarzenbach NÖ\, Trift 4\, Schwarzenbach\, Niederösterreich\, 2803\, Österreich
ORGANIZER;CN="Markt Gemeinde Schwarzenbach N%C3%96":MAILTO:gemeinde@schwarzenbach.gv.at
END:VEVENT
BEGIN:VEVENT
DTSTART;VALUE=DATE:20260703
DTEND;VALUE=DATE:20260707
DTSTAMP:20260420T134130
CREATED:20230312T075142Z
LAST-MODIFIED:20260102T103338Z
UID:7444-1783047600-1783306799@istros-keltoi.de
SUMMARY:Museumsfest Kelten Römer Museum Manching
DESCRIPTION:Save the Date!\nKelten Römer Fest Manching\nSamstag/Sonntag · 04.07/05.07.2026 · 10–19 Uhr \nkelten römer museum manching \n  \n\nGroßes Museumsfest zum 20-jährigen Geburtstag \n\n\nMAXIMUM GAUDIUM für die ganze Familie! Wie sah es aus\, wenn Keltenreiter angriffen oder römische Legionäre aufmarschierten? Über welche Kunstfertigkeiten verfügten antike Handwerkerinnen? Und wie klingt eigentlich eine römische Wasserorgel? Antworten auf diese und viele weitere Fragen gibt ein Museumsfest der besonderen Art\, bei dem sich Archäologie und Geschichte live erleben lassen.  \nIm Sommer 2026 wird das kelten römer museum manching 20 Jahre alt! Zum runden Geburtstag ist ein zweitägiges Event im und um das Museum geplant\, das ein vielseitiges Programm zu antikem Militär\, Handwerk und Alltagsleben\, zu Musik und Kulinarik bietet. Kleine und große Gäste dürfen sich auf historische Darstellergruppen mit spektakulären Vorführungen sowie spannende Mitmach- und Informationsangebote freuen. Auch für »lukullische Gaumenfreuden« wird gesorgt. \nTeilnehmende Gruppen und Akteure (die Liste wird fortlaufend erweitert)  \nI. Roemercohorte Opladen (NRW) 4. Vindelikercohorte (Hessen) Archäologisches Museum Kelheim (Bayern) Bajuwarenhof Kirchheim (Bayern) Boii Pannonia (Österreich) Equites Digni (Berlin) Gabro Agrani (Bayern) Historische Darstellungsgruppe München (Bayern) Hydraulis (Bayern) Johannes Goldes (Bayern) Kastenhof Landau (Bayern) Katholische Universität Eichtsätt-Ingolstadt (Bayern) Keltengruppe Sucellos (Saarland) Legio III Italica pia fidelis (Bayern) Schola Romana (Rheinland-Pfalz) Stadtmuseum Ingolstadt (Bayern) Tobias Brendle (Bayern) Touta Nanto En (Bayern)  \nNähere Informationen folgen!  \n\n\nTermine\n\n\n\n\nDatum\nUhrzeit\n \n \n \n\n\n04.07.2026\n10:00 ‐ 19:00 Uhr\n \n\n\n05.07.2026\n10:00 ‐ 19:00 Uhr\n \n\n\n\n\n\nkelten römer museum manchingIm Erlet 2 · D–85077 ManchingTelefon +49 (0)8459 32373–0 \nwww.museum–manching.de · info@museum–manching.dewww.facebook.com/keltenroemermuseumwww.instagram.com/keltenroemermuseummanching \nAnfahrtÖPNV: Linienbus 16 ab Hbf Ingolstadt in Richtung Manching / Geisenfeld · Haltestelle »Schloßberg«Auto: A9 Ausfahrt Manching\, danach 2\,5 km der Beschilderung folgen.Achtung: Das Festgelände ist für Fahrzeuge gesperrt!Parkplätze in Manching: Am Braunweiher · Ecke Ingolstädter Straße / Mühlstraße · GeisenfelderStraße 3 · Kellerstraße 1 – 3 · Rechliner Straße / Keltenwall \nMuseumsträgerBezirk OberbayernLandkreis Pfaffenhofen a.d. IlmMarkt ManchingKeltisch–Römischer Freundeskreis – Heimatverein Manching e.V.Mit freundlicher Unterstützung durchSparkasse Ingolstadt EichstättMayr – Schreinerei und MöbelmanufakturMalerei CotaBöttcher – Glasdächer und SonnenschutzHerrenbräuHerrmanns – Restaurant und Café \nhttps://www.museum-manching.de/ \n 
URL:https://istros-keltoi.de/termin/vorankuendigung-museumsfest-kelten-roemer-museum-manching/
LOCATION:85077 Manching\, Im Erlet 2\, Manching\, Bayern\, 85077\, Deutschland
END:VEVENT
BEGIN:VEVENT
DTSTART;VALUE=DATE:20260711
DTEND;VALUE=DATE:20260714
DTSTAMP:20260420T134130
CREATED:20250427T075426Z
LAST-MODIFIED:20260102T110923Z
UID:8386-1783738800-1783911599@istros-keltoi.de
SUMMARY:Museumsnacht bei den Aschaffenburger Kulturtage
DESCRIPTION:Von der Seite des Kulturamt Aschaffenburg: \n  \n\n\n\n\n\n27. Aschaffenburger Kulturtage\n\n\n2. bis 12. Juli 2026\n\n\nZum 27. Mal präsentieren die Aschaffenburger Kulturtage vom 2. bis 12. Juli 2026 das reiche Kulturangebot der Stadt. Das Publikum kann Ausstellungen\, Konzerte\, Open-Air-Kino\, Kabarett\, darstellende Kunst und vieles mehr an den schönsten und interessantesten Orten der Stadt erleben. Private\, staatliche\, städtische und kirchliche Einrichtungen beteiligen sich mit einem abwechslungsreichen Programm\, das in der Museumsnacht am 11. Juli seinen Höhepunkt findet. \nDieses Mal steht das 125-Jährige Jubiläum des Aschaffenburger Stadtteils Damm im Mittelpunkt der Kulturtage. Damm ist durch große Industriegebiete geprägt und beheimatete in der Vergangenheit mehrere Papiermühlen und Steingutfabriken. \nDas Motto der der Kulturtage lautet deshalb: Schere. Stein. Papier. \n\n\nDas Programm der 27. Aschaffenburger Kulturtage wird im Mai 2026 veröffentlicht.
URL:https://istros-keltoi.de/termin/museumsnacht-bei-den-aschaffenburger-kulturtage/
LOCATION:63739 Aschaffenburg\, Dalbergstr. 9\, Aschaffenburg\, Bayern\, 63739\, Germany
ORGANIZER;CN="Kulturamt Aschaffenburg":MAILTO:kulturamt@aschaffenburg.de
END:VEVENT
BEGIN:VEVENT
DTSTART;VALUE=DATE:20260731
DTEND;VALUE=DATE:20260804
DTSTAMP:20260420T134130
CREATED:20260102T112611Z
LAST-MODIFIED:20260102T112907Z
UID:8445-1785466800-1785725999@istros-keltoi.de
SUMMARY:Lughnasadh in Nasavrky (CZ)
DESCRIPTION:nähere Infos folgen. \nhttps://www.lughnasad.cz/en/about-the-festival/
URL:https://istros-keltoi.de/termin/lughnasadh-in-nasavrky-cz/
LOCATION:Nasavrky 409\, 538 25 Nasavrky\, Nasavrky 409\, 538 25 Nasavrky\, 538 25
END:VEVENT
BEGIN:VEVENT
DTSTART;VALUE=DATE:20260822
DTEND;VALUE=DATE:20260825
DTSTAMP:20260420T134130
CREATED:20210826T070325Z
LAST-MODIFIED:20260102T103155Z
UID:7069-1787367600-1787540399@istros-keltoi.de
SUMMARY:Dorfbelebung Im Freilichtmuseum Schwarzenbach NÖ
DESCRIPTION:Keltentage von 22. bis 23. August 2026\n\n  \n \n\n\n  \nDorfbelebung Im Freilichtmuseum Schwarzenbach NÖ\, mit vielen Keltengruppen aus ganz Europa. \n\nKeltentage von 22. bis 23. August 2026\n \n\n\n\nTermine\n\n\nSa\, 22.08.2026 – So\, 23.08.2026\n\n\n\n\nZeit\nGanztägig\n\n\nOrt\nAm Keltenwall 12803 Schwarzenbach\n\n\nVeranstaltungsstätte\nArchäologisches Freilichtmuseum Schwarzenbach\n\n\n\nTermine als iCal-Datei downloaden
URL:https://istros-keltoi.de/termin/dorfbelebung-im-freilichtmuseum-schwarzenbach-noe-3/
LOCATION:Freilichtmuseum „Oppidum“  Schwarzenbach NÖ\, Trift 4\, Schwarzenbach\, Niederösterreich\, 2803\, Österreich
ORGANIZER;CN="Markt Gemeinde Schwarzenbach N%C3%96":MAILTO:gemeinde@schwarzenbach.gv.at
END:VEVENT
BEGIN:VEVENT
DTSTART;TZID=Europe/Berlin:20260905T130000
DTEND;TZID=Europe/Berlin:20260906T173000
DTSTAMP:20260420T134130
CREATED:20210826T065749Z
LAST-MODIFIED:20260102T111358Z
UID:7063-1788613200-1788715800@istros-keltoi.de
SUMMARY:Die Kelten kommen! – Keltenfest am Ipf
DESCRIPTION:Die Kelten kommen!\nKeltenfest am Ipf\n04./06. September 2026 \nFreilichtmuseum am Ipf \nDie Kelten kommen! Das Keltenfest am Ipf \nVORSCHAU FÜR 2026 \nmehr Info´s hier \n  \n\n  \n\n  \n  \n 
URL:https://istros-keltoi.de/termin/die-kelten-kommen-keltenfest-am-ipf/
LOCATION:Bopfingen\, 48.871357073631096\, 10.357590615220445\, Stadt Bopfingen\, Baden-Württemberg\, 73441\, Deutschland
END:VEVENT
BEGIN:VEVENT
DTSTART;VALUE=DATE:20260920
DTEND;VALUE=DATE:20260922
DTSTAMP:20260420T134130
CREATED:20220915T161119Z
LAST-MODIFIED:20260102T102458Z
UID:7365-1789873200-1789959599@istros-keltoi.de
SUMMARY:Keltenfest im Vorgeschichtsdorf in Landersdorf
DESCRIPTION:Thalmässing/Landersdorf Abteilung Vorgeschichte und der Verein der Freunde der Vor- und Frühgeschichte Landersdorf Veranstaltung im Vorgeschichtsdorf Thalmässing/Landersdorf Traditionsgemäß findet am dritten Sonntag im September wieder das Keltenfest in Landersdorf bei Thalmässing statt. Die Abteilung für Vorgeschichte und der Verein der Freunde der Vor- und Frühgeschichte Landersdorf laden zum Besuch des vorgeschichtlichen Dorfes rund um das Keltenhaus ein. Speziell für das Keltenfest gebrautes Bier und die beliebten “Keltenwürste“\, oder Kaffee und Kuchen sorgen für das leibliche Wohl der BesucherInnen.
URL:https://istros-keltoi.de/termin/keltenfest-im-vorgeschichtsdorf-in-landersdorf/
LOCATION:Vorgeschichtsdorf Landersdorf\, Landersdorf 28\, Thalmässing / Landersdorf\, Bayern\, 91177\, Deutschland
END:VEVENT
BEGIN:VEVENT
DTSTART;TZID=Europe/Berlin:20261004T110000
DTEND;TZID=Europe/Berlin:20261004T170000
DTSTAMP:20260420T134130
CREATED:20171030T142754Z
LAST-MODIFIED:20260102T102615Z
UID:3704-1791111600-1791133200@istros-keltoi.de
SUMMARY:Museumsfest im Archäologischen Museum der Stadt Kelheim
DESCRIPTION:2026 ist endlich wieder ein Museumsfest im Archäologischen Museum der Stadt Kelheim geplant. \nNähere Infos hier \n \n 
URL:https://istros-keltoi.de/termin/museumsfest-im-archaeologischen-museum-der-stadt-kelheim/
LOCATION:Archaeologisches Museum Kelheim\, Lederergasse 11\, Kelheim\, Bayern\, 93309\, Deutschland
END:VEVENT
END:VCALENDAR